BEGIN:VCALENDAR
VERSION:2.0
PRODID:-//Pedal y Deporte - Tu portal de ciclismo y deporte - ECPv6.15.20//NONSGML v1.0//EN
CALSCALE:GREGORIAN
METHOD:PUBLISH
X-ORIGINAL-URL:https://pedalydeporte.com
X-WR-CALDESC:Eventos para Pedal y Deporte - Tu portal de ciclismo y deporte
REFRESH-INTERVAL;VALUE=DURATION:PT1H
X-Robots-Tag:noindex
X-PUBLISHED-TTL:PT1H
BEGIN:VTIMEZONE
TZID:Europe/Madrid
BEGIN:DAYLIGHT
TZOFFSETFROM:+0100
TZOFFSETTO:+0200
TZNAME:CEST
DTSTART:20240331T010000
END:DAYLIGHT
BEGIN:STANDARD
TZOFFSETFROM:+0200
TZOFFSETTO:+0100
TZNAME:CET
DTSTART:20241027T010000
END:STANDARD
BEGIN:DAYLIGHT
TZOFFSETFROM:+0100
TZOFFSETTO:+0200
TZNAME:CEST
DTSTART:20250330T010000
END:DAYLIGHT
BEGIN:STANDARD
TZOFFSETFROM:+0200
TZOFFSETTO:+0100
TZNAME:CET
DTSTART:20251026T010000
END:STANDARD
BEGIN:DAYLIGHT
TZOFFSETFROM:+0100
TZOFFSETTO:+0200
TZNAME:CEST
DTSTART:20260329T010000
END:DAYLIGHT
BEGIN:STANDARD
TZOFFSETFROM:+0200
TZOFFSETTO:+0100
TZNAME:CET
DTSTART:20261025T010000
END:STANDARD
END:VTIMEZONE
BEGIN:VEVENT
DTSTART;TZID=Europe/Madrid:20250712T213000
DTEND;TZID=Europe/Madrid:20250712T213000
DTSTAMP:20260423T132106
CREATED:20250306T200230Z
LAST-MODIFIED:20250306T200248Z
UID:1437-1752355800-1752355800@pedalydeporte.com
SUMMARY:IX CARRERA NOCTURNA CONTRA EL CÁNCER
DESCRIPTION:🏃‍♂️ Ciudad de Almería📅 12 de julio de 2025 – 🕤 21:30 h💚 Corre por una causa solidaria \nVuelve la IX Edición de la Carrera Nocturna Contra el Cáncer en Almería\, un evento deportivo y solidario en el que cada zancada cuenta. Disfruta de una carrera mágica bajo las estrellas mientras colaboras en la lucha contra el cáncer. \n🌟 ¿Por qué participar?✅ Apoya la lucha contra el cáncer.✅ Corre en un ambiente único y solidario.✅ Disfruta del recorrido nocturno por la ciudad de Almería. \n💰 Inscripción: 10€🔗INSCRIBETE AQUÍ \n📍 Organiza: Asociación Amigos Contra el Cáncer – Ciudad de Almería \nCorre\, apoya y súmate a esta gran causa. ¡Te esperamos en la meta! 🏁💚
URL:https://pedalydeporte.com/prueba/ix-carrera-nocturna-contra-el-cancer/
LOCATION:Alcazaba de Almería\, C. Almanzor\, s/n\, Almería\, Almería\, 04002\, Spain
CATEGORIES:ATLETISMO
ATTACH;FMTTYPE=image/jpeg:https://pedalydeporte.com/wp-content/uploads/2025/03/539a1b00-00fd-4e7a-96ad-570bca3592a9-1.jpeg
ORGANIZER;CN="Asociaci%C3%B3n Amigos contra el cancer ciudad de Almer%C3%ADa":MAILTO:amigoscontraelcanceralmeria@gmail.com
END:VEVENT
END:VCALENDAR