BEGIN:VCALENDAR
VERSION:2.0
PRODID:-//Pedal y Deporte - Tu portal de ciclismo y deporte - ECPv6.15.20//NONSGML v1.0//EN
CALSCALE:GREGORIAN
METHOD:PUBLISH
X-ORIGINAL-URL:https://pedalydeporte.com
X-WR-CALDESC:Eventos para Pedal y Deporte - Tu portal de ciclismo y deporte
REFRESH-INTERVAL;VALUE=DURATION:PT1H
X-Robots-Tag:noindex
X-PUBLISHED-TTL:PT1H
BEGIN:VTIMEZONE
TZID:Europe/Madrid
BEGIN:DAYLIGHT
TZOFFSETFROM:+0100
TZOFFSETTO:+0200
TZNAME:CEST
DTSTART:20240331T010000
END:DAYLIGHT
BEGIN:STANDARD
TZOFFSETFROM:+0200
TZOFFSETTO:+0100
TZNAME:CET
DTSTART:20241027T010000
END:STANDARD
BEGIN:DAYLIGHT
TZOFFSETFROM:+0100
TZOFFSETTO:+0200
TZNAME:CEST
DTSTART:20250330T010000
END:DAYLIGHT
BEGIN:STANDARD
TZOFFSETFROM:+0200
TZOFFSETTO:+0100
TZNAME:CET
DTSTART:20251026T010000
END:STANDARD
BEGIN:DAYLIGHT
TZOFFSETFROM:+0100
TZOFFSETTO:+0200
TZNAME:CEST
DTSTART:20260329T010000
END:DAYLIGHT
BEGIN:STANDARD
TZOFFSETFROM:+0200
TZOFFSETTO:+0100
TZNAME:CET
DTSTART:20261025T010000
END:STANDARD
END:VTIMEZONE
BEGIN:VEVENT
DTSTART;TZID=Europe/Madrid:20250322T080000
DTEND;TZID=Europe/Madrid:20250322T170000
DTSTAMP:20260424T000249
CREATED:20250305T113323Z
LAST-MODIFIED:20250305T113521Z
UID:1333-1742630400-1742662800@pedalydeporte.com
SUMMARY:VUELTA CICLODEPORTIVA COSTA DE ALMERIA 2025
DESCRIPTION:Prepárate para vivir la emoción del ciclismo al máximo en la Vuelta Ciclodeportiva Costa de Almería 2025\, que se llevará a cabo los días 22 y 23 de marzo de 2025. Durante dos jornadas inolvidables\, los mejores ciclistas se enfrentarán a un recorrido lleno de desafíos\, combinando velocidad\, estrategia y resistencia a través de los paisajes más impresionantes de Almería. \nYa seas un apasionado del ciclismo o un espectador entusiasta\, este evento será una experiencia única que no te querrás perder. Marca las fechas en tu calendario y acompáñanos en este gran evento deportivo.
URL:https://pedalydeporte.com/prueba/vuelta-ciclodeportiva-costa-de-almeria-2025/
LOCATION:PRIMAFLOR\, Avenida Cecilio Peregrín\, nº2\, Pulpí\, Almería\, 04640\, Spain
ATTACH;FMTTYPE=image/jpeg:https://pedalydeporte.com/wp-content/uploads/2025/03/WEB_xs88iif.jpg
END:VEVENT
END:VCALENDAR