BEGIN:VCALENDAR
VERSION:2.0
PRODID:-//Pedal y Deporte - Tu portal de ciclismo y deporte - ECPv6.15.20//NONSGML v1.0//EN
CALSCALE:GREGORIAN
METHOD:PUBLISH
X-ORIGINAL-URL:https://pedalydeporte.com
X-WR-CALDESC:Eventos para Pedal y Deporte - Tu portal de ciclismo y deporte
REFRESH-INTERVAL;VALUE=DURATION:PT1H
X-Robots-Tag:noindex
X-PUBLISHED-TTL:PT1H
BEGIN:VTIMEZONE
TZID:Europe/Madrid
BEGIN:DAYLIGHT
TZOFFSETFROM:+0100
TZOFFSETTO:+0200
TZNAME:CEST
DTSTART:20240331T010000
END:DAYLIGHT
BEGIN:STANDARD
TZOFFSETFROM:+0200
TZOFFSETTO:+0100
TZNAME:CET
DTSTART:20241027T010000
END:STANDARD
BEGIN:DAYLIGHT
TZOFFSETFROM:+0100
TZOFFSETTO:+0200
TZNAME:CEST
DTSTART:20250330T010000
END:DAYLIGHT
BEGIN:STANDARD
TZOFFSETFROM:+0200
TZOFFSETTO:+0100
TZNAME:CET
DTSTART:20251026T010000
END:STANDARD
BEGIN:DAYLIGHT
TZOFFSETFROM:+0100
TZOFFSETTO:+0200
TZNAME:CEST
DTSTART:20260329T010000
END:DAYLIGHT
BEGIN:STANDARD
TZOFFSETFROM:+0200
TZOFFSETTO:+0100
TZNAME:CET
DTSTART:20261025T010000
END:STANDARD
END:VTIMEZONE
BEGIN:VEVENT
DTSTART;TZID=Europe/Madrid:20250511T090000
DTEND;TZID=Europe/Madrid:20250511T090000
DTSTAMP:20260423T205554
CREATED:20250307T100445Z
LAST-MODIFIED:20250414T095600Z
UID:1443-1746954000-1746954000@pedalydeporte.com
SUMMARY:Coín > Caminito del Rey 2025
DESCRIPTION:¡Vive una experiencia cicloturista inolvidable!\nEl próximo 11 de mayo de 2025\, prepárate para desafiar tus límites en una de las rutas más espectaculares del calendario ciclista. La Coín > Caminito del Rey es mucho más que una prueba\, es una aventura que combina esfuerzo\, pasión y paisajes inigualables. \n📍 Recorrido: 121 km de pura emoción\, partiendo desde la localidad de Coín y finalizando en el emblemático Caminito del Rey\, con un trazado que atraviesa parajes naturales únicos. \n⏰ Salida: 09:00 h📅 Fecha: 11 de mayo de 2025🔹 Modalidad: Cicloturista🔹 Dificultad: Media-alta \n🔥 ¿Estás listo para el desafío?\n📝 Inscripciones abiertas en: www.cruzandolameta.esℹ️ Más información en: www.cicloturistacoin.com \nNo dejes pasar esta oportunidad de formar parte de una prueba única. ¡Pedalea\, disfruta y supera el reto! 🚴💨
URL:https://pedalydeporte.com/prueba/coin-caminito-del-rey-2025/
LOCATION:Recinto Ferial de Coín\, Recinto Ferial de Coin\, Coín\, Malaga\, 29100\, Spain
CATEGORIES:CICLISMO
ATTACH;FMTTYPE=image/jpeg:https://pedalydeporte.com/wp-content/uploads/2025/03/Cartel_Caminito_Horizontal_DIPU-scaled.jpg
END:VEVENT
BEGIN:VEVENT
DTSTART;VALUE=DATE:20250530
DTEND;VALUE=DATE:20250602
DTSTAMP:20260423T205554
CREATED:20250519T162816Z
LAST-MODIFIED:20250519T163036Z
UID:1453-1748563200-1748822399@pedalydeporte.com
SUMMARY:CAMPEONATO ANDALUCIA DE CICLISMO EN CARRETERA
DESCRIPTION:Campeonato de Andalucía de Ruta y Contrarreloj 2025\n📍 Huércal-Overa (Almería)📅 30 y 31 de mayo\, 1 de junio de 2025 \nLa localidad almeriense de Huércal-Overa acogerá uno de los eventos más destacados del ciclismo andaluz: el Campeonato de Andalucía de Ruta y Contrarreloj 2025. Tres jornadas intensas que reunirán a los mejores ciclistas de la comunidad en las categorías Cadete\, Júnior\, Sub23\, Élite\, Féminas y Másters. \nPrograma de competición:\n\n\n30 de mayo:🕒 Prueba Contrarreloj Individual (C.R.I.) para categorías Cadete a Máster 60 (masculino y femenino). \n\n\n31 de mayo:🚴‍♀️ Prueba en línea para Féminas\, Sub23\, Élites\, Cadetes y Júniors. \n\n\n1 de junio:🚴‍♂️ Prueba en línea para categoría Máster. \n\n\nUn evento organizado por la Federación Andaluza de Ciclismo\, con la colaboración de la Junta de Andalucía\, Diputación de Almería y el Ayuntamiento de Huércal-Overa. \nℹ️ Más información e inscripciones en: ruta.andaluciaciclismo.com \n📲 Sigue todas las novedades en redes sociales con el hashtag#CampeonatoAndalucíaCarretera2025
URL:https://pedalydeporte.com/prueba/campeonato-andalucia-de-ciclismo-en-carretera/
LOCATION:HUERCAL OVERA\, HUERCAL OVERA\, Spain
CATEGORIES:CICLISMO
ATTACH;FMTTYPE=image/jpeg:https://pedalydeporte.com/wp-content/uploads/2025/05/doc_67fe4212633172.06550039_CAMPEONATO_RUTA_CRI_2025-scaled.jpg
END:VEVENT
END:VCALENDAR